BEGIN:VCALENDAR
VERSION:2.0
PRODID:-//ChurchDev//Events//EN
CALSCALE:GREGORIAN
METHOD:PUBLISH
BEGIN:VEVENT
UID:4526-20231209@www.bethelottawa.org
SUMMARY:Intercessory Prayer
DTSTART:20231209T150000Z
DTEND:20231209T160000Z
DESCRIPTION:https://www.bethelottawa.org/events/intercessory-prayer/
URL:https://www.bethelottawa.org/events/intercessory-prayer/
DTSTAMP:20260420T034344Z
END:VEVENT
END:VCALENDAR
